Workbook

Sheet 00_Kullanim
A1: Excel Formül Uygulama Dosyası
A4: Microsoft Excel Professional Plus 2024 – Türkçe Excel için örnek çalışma dosyası
A6: Nasıl kullanılır?
A7: 1 | B7: 01_Veri sayfasında 20 öğrencilik örnek veri bulunur. Puanları, sınıfları, dersleri ve tarihleri değiştirerek formüllerin nasıl tepki verdiğini gözlemleyin.
A8: 2 | B8: 02_Temel_Formuller sayfasında temel matematik, koşul, sayma ve istatistik formüllerinin canlı örnekleri vardır.
A9: 3 | B9: 03_Arama_Metin_Tarih sayfasında arama, metin ve tarih işlevlerini farklı girişler yazarak deneyebilirsiniz.
A10: 4 | B10: 04_Dinamik_Diziler sayfasında Excel 2024'ün dinamik dizi işlevleri için örnek alanlar bulunur.
A11: 5 | B11: 05_Alistirmalar sayfasındaki sarı hücrelere kendi formüllerinizi yazın. 06_Cevaplar sayfasından kontrol edebilirsiniz.
A12: Not | B12: Dosya içindeki canlı formüller XLSX standardı gereği İngilizce işlev adlarıyla saklanır. Türkçe Excel 2024 dosyayı açtığında işlev adlarını yerel Türkçe karşılıklarıyla görüntüler ve çalıştırır.
A13: Not | B13: Türkçe Excel'de formül ayırıcı çoğu Windows kurulumunda noktalı virgüldür (;). Bölge ayarınıza göre virgül (,) kullanılabilir.
A14: Kaynak | B14: Microsoft Excel işlevleri (kategoriye göre): https://support.microsoft.com/tr-tr/excel/excel-functions-by-category
A15: Kaynak | B15: Excel 2024 yenilikleri: https://support.microsoft.com/tr-tr/excel/what-s-new-in-excel-2024-for-windows-and-mac
A24: Not : | B24: Bu Excel örnek çalışma sayfası, Microsoft Excel 2024 içerisinde hazirlanmıştır. Lütfen bilgisayarınızda kullandığınız Excel modülünün versiyon bilgilerini kontrol ediniz. Geçersiz ya da kullanılmayan formüller bulunabilir.

Sheet 01_Veri
A1: 20 Öğrencilik Örnek Veri Seti
A4: Öğrenci | B4: Sınıf | C4: Ders | D4: Puan1 | E4: Puan2 | F4: Tarih | G4: Cinsiyet | H4: E-posta | I4: Kod | J4: Birleşik Veri | K4: Durum | L4: Düzey
A5: Ayşe Yılmaz | B5: 6A | C5: Matematik | D5: 85 | E5: 88 | F5: 46296 | G5: K | H5: ayse.yilmaz@example.com | I5: 6A-MAT-01 | J5: Ayşe Yılmaz;6A;Matematik;85 | K5: =IF(D5>=50,"Başarılı","Başarısız") -> Başarılı | L5: =_xludf.IFS(D5>=85,"Çok İyi",D5>=70,"İyi",D5>=50,"Geçer",TRUE,"Destek Gerekli") -> #NAME?
A6: Mehmet Kaya | B6: 6A | C6: Matematik | D6: 62 | E6: 66 | F6: 46296 | G6: E | H6: mehmet.kaya@example.com | I6: 6A-MAT-02 | J6: Mehmet Kaya;6A;Matematik;62 | K6: =IF(D6>=50,"Başarılı","Başarısız") -> Başarılı | L6: =_xludf.IFS(D6>=85,"Çok İyi",D6>=70,"İyi",D6>=50,"Geçer",TRUE,"Destek Gerekli") -> #NAME?
A7: Zeynep Demir | B7: 6A | C7: Türkçe | D7: 91 | E7: 94 | F7: 46297 | G7: K | H7: zeynep.demir@example.com | I7: 6A-TUR-01 | J7: Zeynep Demir;6A;Türkçe;91 | K7: =IF(D7>=50,"Başarılı","Başarısız") -> Başarılı | L7: =_xludf.IFS(D7>=85,"Çok İyi",D7>=70,"İyi",D7>=50,"Geçer",TRUE,"Destek Gerekli") -> #NAME?
A8: Can Aydın | B8: 6A | C8: Fen | D8: 48 | E8: 55 | F8: 46297 | G8: E | H8: can.aydin@example.com | I8: 6A-FEN-01 | J8: Can Aydın;6A;Fen;48 | K8: =IF(D8>=50,"Başarılı","Başarısız") -> Başarısız | L8: =_xludf.IFS(D8>=85,"Çok İyi",D8>=70,"İyi",D8>=50,"Geçer",TRUE,"Destek Gerekli") -> #NAME?
A9: Elif Şahin | B9: 6B | C9: Matematik | D9: 73 | E9: 77 | F9: 46298 | G9: K | H9: elif.sahin@example.com | I9: 6B-MAT-01 | J9: Elif Şahin;6B;Matematik;73 | K9: =IF(D9>=50,"Başarılı","Başarısız") -> Başarılı | L9: =_xludf.IFS(D9>=85,"Çok İyi",D9>=70,"İyi",D9>=50,"Geçer",TRUE,"Destek Gerekli") -> #NAME?
A10: Emir Arslan | B10: 6B | C10: Türkçe | D10: 55 | E10: 61 | F10: 46298 | G10: E | H10: emir.arslan@example.com | I10: 6B-TUR-01 | J10: Emir Arslan;6B;Türkçe;55 | K10: =IF(D10>=50,"Başarılı","Başarısız") -> Başarılı | L10: =_xludf.IFS(D10>=85,"Çok İyi",D10>=70,"İyi",D10>=50,"Geçer",TRUE,"Destek Gerekli") -> #NAME?
A11: Defne Koç | B11: 6B | C11: Fen | D11: 88 | E11: 90 | F11: 46299 | G11: K | H11: defne.koc@example.com | I11: 6B-FEN-01 | J11: Defne Koç;6B;Fen;88 | K11: =IF(D11>=50,"Başarılı","Başarısız") -> Başarılı | L11: =_xludf.IFS(D11>=85,"Çok İyi",D11>=70,"İyi",D11>=50,"Geçer",TRUE,"Destek Gerekli") -> #NAME?
A12: Kerem Çelik | B12: 6B | C12: Matematik | D12: 44 | E12: 50 | F12: 46299 | G12: E | H12: kerem.celik@example.com | I12: 6B-MAT-02 | J12: Kerem Çelik;6B;Matematik;44 | K12: =IF(D12>=50,"Başarılı","Başarısız") -> Başarısız | L12: =_xludf.IFS(D12>=85,"Çok İyi",D12>=70,"İyi",D12>=50,"Geçer",TRUE,"Destek Gerekli") -> #NAME?
A13: Ece Kurt | B13: 6A | C13: Türkçe | D13: 78 | E13: 82 | F13: 46300 | G13: K | H13: ece.kurt@example.com | I13: 6A-TUR-02 | J13: Ece Kurt;6A;Türkçe;78 | K13: =IF(D13>=50,"Başarılı","Başarısız") -> Başarılı | L13: =_xludf.IFS(D13>=85,"Çok İyi",D13>=70,"İyi",D13>=50,"Geçer",TRUE,"Destek Gerekli") -> #NAME?
A14: Arda Yıldız | B14: 6A | C14: Fen | D14: 69 | E14: 72 | F14: 46300 | G14: E | H14: arda.yildiz@example.com | I14: 6A-FEN-02 | J14: Arda Yıldız;6A;Fen;69 | K14: =IF(D14>=50,"Başarılı","Başarısız") -> Başarılı | L14: =_xludf.IFS(D14>=85,"Çok İyi",D14>=70,"İyi",D14>=50,"Geçer",TRUE,"Destek Gerekli") -> #NAME?
A15: Selin Öz | B15: 6B | C15: Matematik | D15: 94 | E15: 96 | F15: 46301 | G15: K | H15: selin.oz@example.com | I15: 6B-MAT-03 | J15: Selin Öz;6B;Matematik;94 | K15: =IF(D15>=50,"Başarılı","Başarısız") -> Başarılı | L15: =_xludf.IFS(D15>=85,"Çok İyi",D15>=70,"İyi",D15>=50,"Geçer",TRUE,"Destek Gerekli") -> #NAME?
A16: Burak Akın | B16: 6B | C16: Türkçe | D16: 51 | E16: 58 | F16: 46301 | G16: E | H16: burak.akin@example.com | I16: 6B-TUR-02 | J16: Burak Akın;6B;Türkçe;51 | K16: =IF(D16>=50,"Başarılı","Başarısız") -> Başarılı | L16: =_xludf.IFS(D16>=85,"Çok İyi",D16>=70,"İyi",D16>=50,"Geçer",TRUE,"Destek Gerekli") -> #NAME?
... A24: Berk Aslan | B24: 6B | C24: Matematik | D24: 58 | E24: 62 | F24: 46305 | G24: E | H24: berk.aslan@example.com | I24: 6B-MAT-04 | J24: Berk Aslan;6B;Matematik;58 | K24: =IF(D24>=50,"Başarılı","Başarısız") -> Başarılı | L24: =_xludf.IFS(D24>=85,"Çok İyi",D24>=70,"İyi",D24>=50,"Geçer",TRUE,"Destek Gerekli") -> #NAME?

Sheet 02_Temel_Formuller
A1: Temel, Koşullu, Sayma ve İstatistik Formülleri
A4: İşlev | B4: Türkçe formül örneği | C4: Ne işe yarar? | D4: Canlı sonuç | F4: Sınıf | G4: Puan1 Ortalaması
A5: TOPLA | B5: =TOPLA('01_Veri'!D5:D24) | C5: Puan1 sütunundaki değerleri toplar. | D5: =SUM('01_Veri'!D5:D24) -> 1395 | F5: 6A | G5: =AVERAGEIF('01_Veri'!B5:B24,F5,'01_Veri'!D5:D24) -> 74.2
A6: ORTALAMA | B6: =ORTALAMA('01_Veri'!D5:D24) | C6: Puan1 ortalamasını hesaplar. | D6: =AVERAGE('01_Veri'!D5:D24) -> 69.75 | F6: 6B | G6: =AVERAGEIF('01_Veri'!B6:B25,F6,'01_Veri'!D6:D25) -> 65.3
A7: MİN | B7: =MİN('01_Veri'!D5:D24) | C7: En düşük Puan1 değerini bulur. | D7: =MIN('01_Veri'!D5:D24) -> 39
A8: MAK | B8: =MAK('01_Veri'!D5:D24) | C8: En yüksek Puan1 değerini bulur. | D8: =MAX('01_Veri'!D5:D24) -> 96
A9: ORTANCA | B9: =ORTANCA('01_Veri'!D5:D24) | C9: Puanların ortanca değerini bulur. | D9: =MEDIAN('01_Veri'!D5:D24) -> 71
A10: YUVARLA | B10: =YUVARLA(ORTALAMA('01_Veri'!D5:D24);2) | C10: Ortalamayı 2 ondalık basamağa yuvarlar. | D10: =ROUND(AVERAGE('01_Veri'!D5:D24),2) -> 69.75
A11: EĞER | B11: =EĞER('01_Veri'!D5>=50;"Başarılı";"Başarısız") | C11: İlk öğrencinin puanına göre başarı durumu verir. | D11: =IF('01_Veri'!D5>=50,"Başarılı","Başarısız") -> Başarılı
A12: ÇOKEĞER | B12: =ÇOKEĞER('01_Veri'!D5>=85;"Çok İyi";'01_Veri'!D5>=70;"İyi";'01_Veri'!D5>=50;"Geçer";DOĞRU;"Destek Gerekli") | C12: Puanı birden fazla düzeye ayırır. | D12: {=_xlfn.IFS('01_Veri'!D5>=85,"Çok İyi",'01_Veri'!D5>=70,"İyi",'01_Veri'!D5>=50,"Geçer",TRUE,"Destek Gerekli")} -> Çok İyi
A13: VE | B13: =VE('01_Veri'!B5="6A";'01_Veri'!D5>=70) | C13: İki koşulun da doğru olup olmadığını denetler. | D13: =AND('01_Veri'!B5="6A",'01_Veri'!D5>=70) -> TRUE
A14: VEYA | B14: =VEYA('01_Veri'!C5="Matematik";'01_Veri'!C5="Fen") | C14: Koşullardan en az biri doğruysa DOĞRU döndürür. | D14: =OR('01_Veri'!C5="Matematik",'01_Veri'!C5="Fen") -> TRUE
A15: EĞERHATA | B15: =EĞERHATA(1/0;"Hesaplama yapılamadı") | C15: Formül hata verdiğinde açıklayıcı sonuç gösterir. | D15: =IFERROR(1/0,"Hesaplama yapılamadı") -> Hesaplama yapılamadı
A16: BAĞ_DEĞ_SAY | B16: =BAĞ_DEĞ_SAY('01_Veri'!D5:D24) | C16: Sayısal puan hücrelerini sayar. | D16: =COUNT('01_Veri'!D5:D24) -> 20
A17: BAĞ_DEĞ_DOLU_SAY | B17: =BAĞ_DEĞ_DOLU_SAY('01_Veri'!A5:A24) | C17: Boş olmayan öğrenci adı hücrelerini sayar. | D17: =COUNTA('01_Veri'!A5:A24) -> 20
A18: EĞERSAY | B18: =EĞERSAY('01_Veri'!D5:D24;">=50") | C18: 50 ve üzerindeki Puan1 sayısını verir. | D18: =COUNTIF('01_Veri'!D5:D24,">=50") -> 17
A19: ÇOKEĞERSAY | B19: =ÇOKEĞERSAY('01_Veri'!B5:B24;"6A";'01_Veri'!D5:D24;">=50") | C19: 6A sınıfında 50 ve üzeri alanları sayar. | D19: =COUNTIFS('01_Veri'!B5:B24,"6A",'01_Veri'!D5:D24,">=50") -> 9
A20: ETOPLA | B20: =ETOPLA('01_Veri'!B5:B24;"6A";'01_Veri'!D5:D24) | C20: 6A sınıfının Puan1 toplamını verir. | D20: =SUMIF('01_Veri'!B5:B24,"6A",'01_Veri'!D5:D24) -> 742
A21: ÇOKETOPLA | B21: =ÇOKETOPLA('01_Veri'!D5:D24;'01_Veri'!B5:B24;"6A";'01_Veri'!C5:C24;"Matematik") | C21: 6A Matematik Puan1 toplamını verir. | D21: =SUMIFS('01_Veri'!D5:D24,'01_Veri'!B5:B24,"6A",'01_Veri'!C5:C24,"Matematik") -> 300
A22: STDSAPMA.S | B22: =STDSAPMA.S('01_Veri'!D5:D24) | C22: Örneklem standart sapmasını hesaplar. | D22: =_xlfn.STDEV.S('01_Veri'!D5:D24) -> 17.597473
A23: KORELASYON | B23: =KORELASYON('01_Veri'!D5:D24;'01_Veri'!E5:E24) | C23: Puan1 ve Puan2 arasındaki doğrusal ilişkiyi hesaplar. | D23: =CORREL('01_Veri'!D5:D24,'01_Veri'!E5:E24) -> 0.99864373

Sheet 03_Arama_Metin_Tarih
A1: Arama, Metin ve Tarih İşlevleri
A4: Girdi | B4: Değer | D4: İşlev | E4: Türkçe örnek formül | F4: Canlı sonuç | G4: Açıklama
A5: Aranacak öğrenci | B5: Naz Demir | D5: DÜŞEYARA | E5: =DÜŞEYARA(B5;'01_Veri'!A5:E24;4;YANLIŞ) | F5: =VLOOKUP(B5,'01_Veri'!A5:E24,4,FALSE) -> 96 | G5: Öğrenci adından Puan1 getirir.
A6: Ham metin | B6: Ayşe Yılmaz | D6: ÇAPRAZARA | E6: =ÇAPRAZARA(B5;'01_Veri'!A5:A24;'01_Veri'!D5:D24;"Bulunamadı") | F6: =_xlfn.XLOOKUP(B5,'01_Veri'!A5:A24,'01_Veri'!D5:D24,"Bulunamadı") -> 96 | G6: Daha esnek arama yapar.
A7: E-posta | B7: ayse.yilmaz@example.com | D7: İNDİS+KAÇINCI | E7: =İNDİS('01_Veri'!D5:D24;KAÇINCI(B5;'01_Veri'!A5:A24;0)) | F7: =INDEX('01_Veri'!D5:D24,MATCH(B5,'01_Veri'!A5:A24,0)) -> 96 | G7: Konuma göre puanı getirir.
A8: Başlangıç tarihi | B8: 46296 | D8: SOLDAN | E8: =SOLDAN(KIRP(B6);4) | F8: =LEFT(TRIM(B6),4) -> Ayşe | G8: Metnin soldan ilk 4 karakterini getirir.
A9: Bitiş tarihi | B9: 46326 | D9: SAĞDAN | E9: =SAĞDAN(KIRP(B6);5) | F9: =RIGHT(TRIM(B6),5) -> ılmaz | G9: Metnin sağdan son 5 karakterini getirir.
D10: PARÇAAL | E10: =PARÇAAL(KIRP(B6);2;4) | F10: =MID(TRIM(B6),2,4) -> yşe | G10: Metnin ortasından parça alır.
D11: UZUNLUK | E11: =UZUNLUK(KIRP(B6)) | F11: =LEN(TRIM(B6)) -> 11 | G11: Metnin karakter sayısını verir.
D12: KIRP | E12: =KIRP(B6) | F12: =TRIM(B6) -> Ayşe Yılmaz | G12: Gereksiz boşlukları temizler.
D13: BÜYÜKHARF | E13: =BÜYÜKHARF(KIRP(B6)) | F13: =UPPER(TRIM(B6)) -> AYŞE YILMAZ | G13: Metni büyük harfe çevirir.
D14: KÜÇÜKHARF | E14: =KÜÇÜKHARF(KIRP(B6)) | F14: =LOWER(TRIM(B6)) -> ayşe yılmaz | G14: Metni küçük harfe çevirir.
D15: ÖNCEKİMETİN | E15: =ÖNCEKİMETİN(B7;"@") | F15: =_xlfn.TEXTBEFORE(B7,"@") -> ayse.yilmaz | G15: @ işaretinden önceki kısmı getirir.
D16: SONRAKİMETİN | E16: =SONRAKİMETİN(B7;"@") | F16: =_xlfn.TEXTAFTER(B7,"@") -> example.com | G16: @ işaretinden sonraki alan adını getirir.
D17: BUGÜN | E17: =BUGÜN() | F17: =TODAY() -> 46301 | G17: Bugünün tarihini verir.
D18: ŞİMDİ | E18: =ŞİMDİ() | F18: =NOW() -> 46301.688 | G18: Güncel tarih ve saati verir.
D19: TARİH | E19: =TARİH(2026;10;6) | F19: =DATE(2026,10,6) -> 46301 | G19: Belirtilen yıl, ay ve günden tarih üretir.
D20: GÜN | E20: =GÜN(B8) | F20: =DAY(B8) -> 1 | G20: Tarihin gün bölümünü verir.
D21: AY | E21: =AY(B8) | F21: =MONTH(B8) -> 10 | G21: Tarihin ay bölümünü verir.
D22: YIL | E22: =YIL(B8) | F22: =YEAR(B8) -> 2026 | G22: Tarihin yıl bölümünü verir.
D23: TAMİŞGÜNÜ | E23: =TAMİŞGÜNÜ(B8;B9) | F23: =NETWORKDAYS(B8,B9) -> 22 | G23: İki tarih arasındaki iş günlerini sayar.

Sheet 04_Dinamik_Diziler
A1: Excel Dinamik Dizi İşlevleri – Uygulama Alanı
A3: Not: Bazı yeni dizi işlevlerinin sonuçları Excel dosyası açıldığında masaüstü Excel 2024 tarafından yeniden hesaplanır. Formül hücresinin etrafındaki alanı boş bırakın; sonuçlar birden fazla hücreye taşabilir.
A5: FİLTRE – 50'nin altında kalan öğrencileri listele | H5: SIRALA – Puan1'e göre büyükten küçüğe
A6: Türkçe: =FİLTRE('01_Veri'!A5:E24;'01_Veri'!D5:D24<50;"Kayıt yok") | H6: Türkçe: =SIRALA('01_Veri'!A5:E24;4;-1)
A7: {=_xlfn._xlws.FILTER('01_Veri'!A5:E24,'01_Veri'!D5:D24<50,"Kayıt yok")} -> Can Aydın | B7: 6A | C7: Fen | D7: 48 | E7: 55 | H7: {=_xlfn._xlws.SORT('01_Veri'!A5:E24,4,-1)} -> Naz Demir | I7: 6A | J7: Matematik | K7: 96 | L7: 97
A8: Kerem Çelik | B8: 6B | C8: Matematik | D8: 44 | E8: 50 | H8: Selin Öz | I8: 6B | J8: Matematik | K8: 94 | L8: 96
A9: Kaan Yalçın | B9: 6B | C9: Fen | D9: 39 | E9: 47 | H9: Zeynep Demir | I9: 6A | J9: Türkçe | K9: 91 | L9: 94
H10: Defne Koç | I10: 6B | J10: Fen | K10: 88 | L10: 90
H11: Duru Kılıç | I11: 6B | J11: Türkçe | K11: 87 | L11: 89
H12: Ayşe Yılmaz | I12: 6A | J12: Matematik | K12: 85 | L12: 88
H13: İrem Güneş | I13: 6A | J13: Fen | K13: 82 | L13: 86
H14: Ece Kurt | I14: 6A | J14: Türkçe | K14: 78 | L14: 82
H15: Ada Er | I15: 6A | J15: Türkçe | K15: 74 | L15: 79
H16: Elif Şahin | I16: 6B | J16: Matematik | K16: 73 | L16: 77
H17: Arda Yıldız | I17: 6A | J17: Fen | K17: 69 | L17: 72
H18: Eren Bulut | I18: 6B | J18: Fen | K18: 64 | L18: 70
H19: Mehmet Kaya | I19: 6A | J19: Matematik | K19: 62 | L19: 66
H20: Berk Aslan | I20: 6B | J20: Matematik | K20: 58 | L20: 62
H21: Mert Polat | I21: 6A | J21: Matematik | K21: 57 | L21: 63
... H26: Kaan Yalçın | I26: 6B | J26: Fen | K26: 39 | L26: 47
A31: BENZERSİZ – Sınıfların tekrarsız listesi | E31: METİNBÖL – Birleşik veriyi sütunlara ayır
A32: Türkçe: =BENZERSİZ('01_Veri'!B5:B24) | E32: Türkçe: =METİNBÖL('01_Veri'!J5;";")
A33: {=_xlfn.UNIQUE('01_Veri'!B5:B24)} -> 6A | E33: {=_xlfn.TEXTSPLIT('01_Veri'!J5,";")} -> Ayşe Yılmaz | F33: 6A | G33: Matematik | H33: 85
A34: 6B
A39: TAKE – İlk 5 öğrenciyi getir | H39: BIRAK – İlk 5 öğrenciyi atla
A40: Türkçe Excel 2024'te işlev adı: TAKE. Örnek: =TAKE('01_Veri'!A5:F24;5) | H40: Türkçe: =BIRAK('01_Veri'!A5:F24;5)
A41: {=_xludf.TAKE('01_Veri'!A5:F24,5)} -> #NAME? | H41: {=_xludf.DROP('01_Veri'!A5:F24,5)} -> #NAME?
A69: SÜTUNSEÇ – Öğrenci, Sınıf ve Puan1 sütunlarını al | H69: SATIRSEÇ – 1., 3. ve 5. öğrenciyi getir
A70: Türkçe: =SÜTUNSEÇ('01_Veri'!A5:F24;1;2;4) | H70: Türkçe: =SATIRSEÇ('01_Veri'!A5:F24;1;3;5)
A71: {=_xludf.CHOOSECOLS('01_Veri'!A5:F24,1,2,4)} -> #NAME? | H71: {=_xludf.CHOOSEROWS('01_Veri'!A5:F24,1,3,5)} -> #NAME?
A95: SÜTUNA – Sınıf ve Ders verilerini tek sütuna dönüştür | E95: SATIRA – Sınıf ve Ders verilerini tek satıra dönüştür | J95: GENİŞLET – Diziyi 8x4 alana genişlet
A96: Türkçe: =SÜTUNA('01_Veri'!B5:C9;1) | E96: Türkçe: =SATIRA('01_Veri'!B5:C7;1) | J96: Türkçe: =GENİŞLET('01_Veri'!A5:B8;8;4;"-")
A97: {=_xludf.TOCOL('01_Veri'!B5:C9,1)} -> #NAME? | E97: {=_xludf.TOROW('01_Veri'!B5:C7,1)} -> #NAME? | K97: 6A | L97: - | M97: -
J98: Mehmet Kaya | K98: 6A | L98: - | M98: -
J99: Zeynep Demir | K99: 6A | L99: - | M99: -
J100: Can Aydın | K100: 6A | L100: - | M100: -
J101: - | K101: - | L101: - | M101: -
J102: - | K102: - | L102: - | M102: -
J103: - | K103: - | L103: - | M103: -
J104: - | K104: - | L104: - | M104: -

Sheet 05_Alistirmalar
A1: Formül Alıştırmaları
A4: No | B4: Görev | C4: İpucu | D4: Formülünüz | E4: Beklenen sonuç / kontrol
A5: 1 | B5: Puan1 toplamını bulun. | C5: TOPLA | E5: Tüm öğrencilerin Puan1 toplamı
A6: 2 | B6: Puan1 ortalamasını 2 ondalık basamağa yuvarlayın. | C6: ORTALAMA + YUVARLA | E6: Sınıf geneli ortalama
A7: 3 | B7: 50'nin altında kalan öğrenci sayısını bulun. | C7: EĞERSAY | E7: Başarısız öğrenci sayısı
A8: 4 | B8: 6A sınıfında 70 ve üzeri alan öğrenci sayısını bulun. | C8: ÇOKEĞERSAY | E8: 6A içinde koşullu sayım
A9: 5 | B9: Naz Demir'in Puan1 değerini getirin. | C9: ÇAPRAZARA | E9: Naz Demir → 96
A10: 6 | B10: Ayşe Yılmaz'ın e-posta alan adını çıkarın. | C10: SONRAKİMETİN | E10: example.com
A11: 7 | B11: Sınıfların tekrarsız listesini çıkarın. | C11: BENZERSİZ | E11: 6A ve 6B
A12: 8 | B12: Puan1'i 50'nin altında olan öğrencileri listeleyin. | C12: FİLTRE | E12: Can Aydın, Kerem Çelik, Kaan Yalçın
A13: 9 | B13: Öğrencileri Puan1'e göre büyükten küçüğe sıralayın. | C13: SIRALA | E13: İlk sırada Naz Demir
A14: 10 | B14: Puan1 ve Puan2 arasındaki korelasyonu hesaplayın. | C14: KORELASYON | E14: 0 ile 1 arasında pozitif değer
A15: 11 | B15: 01_Veri sayfasından Öğrenci, Sınıf ve Puan1 sütunlarını yeni dizi olarak alın. | C15: SÜTUNSEÇ | E15: 3 sütunlu dinamik dizi
A16: 12 | B16: İlk 5 öğrenciyi TAKE işleviyle listeleyin. | C16: TAKE | E16: 5 satırlık dinamik dizi

Sheet 06_Cevaplar
A1: Alıştırma Cevap Anahtarı
A4: No | B4: Türkçe formül | C4: Açıklama | D4: Kontrol değeri
A5: 1 | B5: =TOPLA('01_Veri'!D5:D24) | C5: Puan1 toplamı | D5: =SUM('01_Veri'!D5:D24) -> 1395
A6: 2 | B6: =YUVARLA(ORTALAMA('01_Veri'!D5:D24);2) | C6: Ortalama iki ondalık | D6: =ROUND(AVERAGE('01_Veri'!D5:D24),2) -> 69.75
A7: 3 | B7: =EĞERSAY('01_Veri'!D5:D24;"<50") | C7: 50'nin altındaki puanları sayar | D7: =COUNTIF('01_Veri'!D5:D24,"<50") -> 3
A8: 4 | B8: =ÇOKEĞERSAY('01_Veri'!B5:B24;"6A";'01_Veri'!D5:D24;">=70") | C8: 6A ve 70+ koşullarını birlikte uygular | D8: =COUNTIFS('01_Veri'!B5:B24,"6A",'01_Veri'!D5:D24,">=70") -> 6
A9: 5 | B9: =ÇAPRAZARA("Naz Demir";'01_Veri'!A5:A24;'01_Veri'!D5:D24;"Bulunamadı") | C9: Naz Demir'in Puan1'i | D9: =_xlfn.XLOOKUP("Naz Demir",'01_Veri'!A5:A24,'01_Veri'!D5:D24,"Bulunamadı") -> 96
A10: 6 | B10: =SONRAKİMETİN("ayse.yilmaz@example.com";"@") | C10: E-posta alan adı | D10: =_xlfn.TEXTAFTER("ayse.yilmaz@example.com","@") -> example.com
A11: 7 | B11: =BENZERSİZ('01_Veri'!B5:B24) | C11: Tekrarsız sınıf listesi | D11: Excel'de açınca dinamik sonuç
A12: 8 | B12: =FİLTRE('01_Veri'!A5:D24;'01_Veri'!D5:D24<50;"Kayıt yok") | C12: 50'nin altındaki kayıtlar | D12: Excel'de açınca dinamik sonuç
A13: 9 | B13: =SIRALA('01_Veri'!A5:D24;4;-1) | C13: Puan1'e göre büyükten küçüğe | D13: Excel'de açınca dinamik sonuç
A14: 10 | B14: =KORELASYON('01_Veri'!D5:D24;'01_Veri'!E5:E24) | C14: İki sınav puanı arasındaki ilişki | D14: =CORREL('01_Veri'!D5:D24,'01_Veri'!E5:E24) -> 0.99864373
A15: 11 | B15: =SÜTUNSEÇ('01_Veri'!A5:F24;1;2;4) | C15: 1., 2. ve 4. sütunları seçer | D15: Excel'de açınca dinamik sonuç
A16: 12 | B16: =TAKE('01_Veri'!A5:F24;5) | C16: İlk 5 satırı getirir | D16: Excel'de açınca dinamik sonuç
